BEGIN:VCALENDAR
VERSION:2.0
PRODID:-//ChamberMaster//Event Calendar 2.0//EN
METHOD:PUBLISH
X-PUBLISHED-TTL:P3D
REFRESH-INTERVAL:P3D
CALSCALE:GREGORIAN
BEGIN:VEVENT
DTSTART:20180217T230000Z
DTEND:20180218T010000Z
X-MICROSOFT-CDO-ALLDAYEVENT:FALSE
SUMMARY:Art Space
DESCRIPTION:Every Saturday between 3-5 PM our studio space is open for artists of all kinds to come and be creative. Bring your own supplies.
X-ALT-DESC;FMTTYPE=text/html:Every Saturday between 3-5 PM our studio space is open for artists of all kinds to come and be creative. Bring your own supplies.
LOCATION:The Crafty Mercantile 517 East Main Street\, Cottage Grove
UID:e.49.21950
SEQUENCE:3
DTSTAMP:20260425T042330Z
URL:https://business.cgchamber.com/events/details/art-space-02-17-2018-21950
END:VEVENT

END:VCALENDAR
