BEGIN:VCALENDAR
VERSION:2.0
PRODID:-//ChamberMaster//Event Calendar 2.0//EN
METHOD:PUBLISH
X-PUBLISHED-TTL:P3D
REFRESH-INTERVAL:P3D
CALSCALE:GREGORIAN
BEGIN:VEVENT
DTSTART:20251206T033000Z
DTEND:20251207T060000Z
X-MICROSOFT-CDO-ALLDAYEVENT:FALSE
SUMMARY:A Celtic Christmas w/The Katie Jane Band
DESCRIPTION:A Celtic Christmas w/The Katie Jane Band 7:30pm $18 Adv/$25 Door Ticketing Link: https://square.link/u/Bp4YaYrw Get ready for an enchanting evening of high-energy Irish tunes\, Celtic Christmas favorites\, and beloved holiday classics. This family-friendly event will also feature a captivating performance by Irish dancers\, adding an extra layer of festive spirit to the night. Known for dynamic performances blending traditional Celtic music with contemporary flair\, they'll deliver all the fan favorites you love along with holiday melodies that will have you singing along. https://youtu.be/YdZ_v6OJqtE?si=aFa6ipSBEQ9SLBBe https://youtu.be/UHl7wx5NGFI?si=KjUjwyqc5gcR15JF https://youtu.be/Ok4aDEU1Ii8?si=5Bp4K6HbTqsFE9CG
X-ALT-DESC;FMTTYPE=text/html:A Celtic Christmas w/The Katie Jane Band 7:30pm $18 Adv/$25 Door Ticketing Link: https://square.link/u/Bp4YaYrw Get ready for an enchanting evening of high-energy Irish tunes\, Celtic Christmas favorites\, and beloved holiday classics. This family-friendly event will also feature a captivating performance by Irish dancers\, adding an extra layer of festive spirit to the night. Known for dynamic performances blending traditional Celtic music with contemporary flair\, they&#39\;ll deliver all the fan favorites you love along with holiday melodies that will have you singing along. https://youtu.be/YdZ_v6OJqtE?si=aFa6ipSBEQ9SLBBe https://youtu.be/UHl7wx5NGFI?si=KjUjwyqc5gcR15JF https://youtu.be/Ok4aDEU1Ii8?si=5Bp4K6HbTqsFE9CG
LOCATION:The Axe and Fiddle 657 East Main St Cottage Grove\, OR 97424
UID:e.49.36235
SEQUENCE:3
DTSTAMP:20260424T080342Z
URL:https://business.cgchamber.com/events/details/a-celtic-christmas-w-the-katie-jane-band-36235
END:VEVENT

END:VCALENDAR
