BEGIN:VCALENDAR
VERSION:2.0
PRODID:-//ChamberMaster//Event Calendar 2.0//EN
METHOD:PUBLISH
X-PUBLISHED-TTL:P3D
REFRESH-INTERVAL:P3D
CALSCALE:GREGORIAN
BEGIN:VEVENT
DTSTART:20260129T200000Z
DTEND:20260129T213000Z
X-MICROSOFT-CDO-ALLDAYEVENT:FALSE
SUMMARY:2026 Annual Chamber Business Luncheon
DESCRIPTION:2026 Annual Chamber Business Luncheon\n\nJoin us for our Annual Business Luncheon. Mayor Solesbee will induct our 2026 Board of Directors\, and we will be introducing the Chamber Health Plan!
X-ALT-DESC;FMTTYPE=text/html:<span style="font-size:16px\;"><u><strong>2026 Annual Chamber Business Luncheon</strong></u></span><br />\nJoin us for our Annual Business Luncheon. Mayor Solesbee will induct our 2026 Board of Directors\, and we will be introducing the Chamber Health Plan!<br />\n&nbsp\;
LOCATION:The Cottage Grove Elks Lodge 755 N River Rd. Cottage Grove\, Or 97424
UID:e.49.36420
SEQUENCE:3
DTSTAMP:20260424T063426Z
URL:https://business.cgchamber.com/events/details/2026-annual-chamber-business-luncheon-36420
END:VEVENT

END:VCALENDAR
